BEGIN:VCALENDAR
VERSION:2.0
PRODID:-//Woluwe Saint Pierre - ECPv6.13.2//NONSGML v1.0//EN
CALSCALE:GREGORIAN
METHOD:PUBLISH
X-ORIGINAL-URL:https://www.woluwe1150.be
X-WR-CALDESC:Évènements pour Woluwe Saint Pierre
REFRESH-INTERVAL;VALUE=DURATION:PT1H
X-Robots-Tag:noindex
X-PUBLISHED-TTL:PT1H
BEGIN:VTIMEZONE
TZID:Europe/Brussels
BEGIN:DAYLIGHT
TZOFFSETFROM:+0100
TZOFFSETTO:+0200
TZNAME:CEST
DTSTART:20250330T010000
END:DAYLIGHT
BEGIN:STANDARD
TZOFFSETFROM:+0200
TZOFFSETTO:+0100
TZNAME:CET
DTSTART:20251026T010000
END:STANDARD
END:VTIMEZONE
BEGIN:VEVENT
DTSTART;TZID=Europe/Brussels:20251106T000000
DTEND;TZID=Europe/Brussels:20251109T000000
DTSTAMP:20260425T004459
CREATED:20251023T091233Z
LAST-MODIFIED:20251023T091716Z
UID:85810-1762387200-1762646400@www.woluwe1150.be
SUMMARY:Un air de Famille
DESCRIPTION:Par la compagnie théâtrale Le Tournesol.  \nUne pièce d’Agnès Jaoui & Jean-Pierre Bacri\, dans une mise en scène de Cédric Lombard. \n« Chaque vendredi soir\, Henri reçoit sa famille dans son café.\nUne routine bien rodée… Mais ce soir-là\, l’anniversaire de Yolande\, sa belle-sœur\, vient tout bouleverser.\nSous l’œil sévère d’Yvette\, la mère\, et les piques acérées de Philippe\, le frère cadet\, les rancunes ressurgissent. Betty\, la sœur\, règle ses comptes\, tandis que Denis\, le serveur\, observe et commente avec humour.\nEntre éclats de rire et tensions enfouies\, cette comédie culte révèle avec tendresse les drames ordinaires d’une famille pas si ordinaire. » \nRéservation en ligne ou par mail : tournesol@gmail.com
URL:https://www.woluwe1150.be/event/un-air-de-famille/
LOCATION:centre communautaire de Joli-Bois\, 15 drève des Shetlands\, Woluwe-Saint-Pierre\, 1150
CATEGORIES:Théâtre
ATTACH;FMTTYPE=image/jpeg:https://www.woluwe1150.be/app/uploads/2025/10/tournesol.jpg
END:VEVENT
END:VCALENDAR