BEGIN:VCALENDAR
VERSION:2.0
PRODID:-//Woluwe Saint Pierre - ECPv6.13.2//NONSGML v1.0//EN
CALSCALE:GREGORIAN
METHOD:PUBLISH
X-ORIGINAL-URL:https://www.woluwe1150.be
X-WR-CALDESC:Évènements pour Woluwe Saint Pierre
REFRESH-INTERVAL;VALUE=DURATION:PT1H
X-Robots-Tag:noindex
X-PUBLISHED-TTL:PT1H
BEGIN:VTIMEZONE
TZID:Europe/Brussels
BEGIN:DAYLIGHT
TZOFFSETFROM:+0100
TZOFFSETTO:+0200
TZNAME:CEST
DTSTART:20260329T010000
END:DAYLIGHT
BEGIN:STANDARD
TZOFFSETFROM:+0200
TZOFFSETTO:+0100
TZNAME:CET
DTSTART:20261025T010000
END:STANDARD
END:VTIMEZONE
BEGIN:VEVENT
DTSTART;TZID=Europe/Brussels:20260121T000000
DTEND;TZID=Europe/Brussels:20260201T000000
DTSTAMP:20260424T200134
CREATED:20251208T121757Z
LAST-MODIFIED:20251208T121757Z
UID:88207-1768953600-1769904000@www.woluwe1150.be
SUMMARY:La "véritable" histoire de Sigmund Freud
DESCRIPTION:Du 21 janvier au 1er février\, La Comédie Claude Volter vous propose La « véritable » histoire de Sigmund Freud\, de Susann Heenen-Wolff. Adaptation théâtrale de Christine Delmotte-Weber. \n« Bienvenue dans le monde de Sigmund Freud… Sa fille Anna a un net penchant pour les filles mais n’ose pas un « coming-out ». Sándor Ferenczi est l’élève le plus doué de Freud au point de faire peur au « Professeur ». La Princesse Marie Bonaparte\, en analyse chez Freud\, est hantée par ce qu’elle croit être sa frigidité. Lou Andreas Salomé est la « poétesse » de la psychanalyse… » \nL’invention révolutionnaire de la psychanalyse au début du 20ème siècle racontée avec humour et impertinence. \nInfos et réservations\n 
URL:https://www.woluwe1150.be/event/la-veritable-histoire-de-sigmund-freud/
LOCATION:Comédie Claude Volter\, 98 avenue des Frères Legrain\, Woluwe-Saint-Pierre\, 1150
CATEGORIES:Théâtre
ATTACH;FMTTYPE=image/jpeg:https://www.woluwe1150.be/app/uploads/2025/12/freud-volter.jpg
ORGANIZER;CN="Com%C3%A9die Claude Volter":MAILTO:secretariat@comedievolter.be
END:VEVENT
BEGIN:VEVENT
DTSTART;TZID=Europe/Brussels:20260127T200000
DTEND;TZID=Europe/Brussels:20260127T220000
DTSTAMP:20260424T200134
CREATED:20251208T115921Z
LAST-MODIFIED:20251208T115921Z
UID:88187-1769544000-1769551200@www.woluwe1150.be
SUMMARY:Kévin
DESCRIPTION:Cie Chantal et Bernadette\n\n\n\n\nIl y a les profs qui aiment leurs élèves\, les pédagogues compétents et dont la personnalité est une leçon à elle seule\, les directions d’école engagées\, qui luttent chaque jour jusqu’à l’épuisement\, les parents impliqués\, les élèves inspirants. On ne parlera pas d’eux. \nOn parlera de Kévin. \nParce que l’école\, pour Kévin\, ça n’a pas du tout marché.\nAprès avoir décomposé\, analysé et désacralisé l’orthographe\, Arnaud et Jérôme s’attaquent à l’école. Ils jettent un regard naïf mais documenté sur ses fondements\, ses valeurs et ses enjeux. \nDans ses créations\, la compagnie Chantal et Bernadette aime transformer la démarche  scientifique en geste artistique en créant son propre langage théâtral. À travers ses collaborations étroites avec des chercheurs et des chercheuses\, elle tente de stimuler l’esprit critique du public en soumettant ses opinions à l’épreuve des faits. \nSavant et didactique\, drôle et digressif\, propice à la réflexion et au débat. – La Libre \nAuteurs : Arnaud Hoedt et Jérôme Piron – Photo: ©Kévin Matagne \nInfos et réservations
URL:https://www.woluwe1150.be/event/kevin/
LOCATION:Centre culturel/cultureel centrum Whalll\, 93 avenue Charles Thielemanslaan\, WSP/SPW\, 1150
CATEGORIES:Théâtre
ATTACH;FMTTYPE=image/png:https://www.woluwe1150.be/app/uploads/2025/12/Kevin.png
ORGANIZER;CN="Whalll":MAILTO:billetterie@whalll.be
END:VEVENT
END:VCALENDAR