BEGIN:VCALENDAR
VERSION:2.0
PRODID:-//Woluwe Saint Pierre - ECPv6.13.2//NONSGML v1.0//EN
CALSCALE:GREGORIAN
METHOD:PUBLISH
X-ORIGINAL-URL:https://www.woluwe1150.be
X-WR-CALDESC:Évènements pour Woluwe Saint Pierre
REFRESH-INTERVAL;VALUE=DURATION:PT1H
X-Robots-Tag:noindex
X-PUBLISHED-TTL:PT1H
BEGIN:VTIMEZONE
TZID:Europe/Brussels
BEGIN:DAYLIGHT
TZOFFSETFROM:+0100
TZOFFSETTO:+0200
TZNAME:CEST
DTSTART:20260329T010000
END:DAYLIGHT
BEGIN:STANDARD
TZOFFSETFROM:+0200
TZOFFSETTO:+0100
TZNAME:CET
DTSTART:20261025T010000
END:STANDARD
END:VTIMEZONE
BEGIN:VEVENT
DTSTART;TZID=Europe/Brussels:20260409T200000
DTEND;TZID=Europe/Brussels:20260409T220000
DTSTAMP:20260424T163305
CREATED:20260316T141830Z
LAST-MODIFIED:20260316T141830Z
UID:93180-1775764800-1775772000@www.woluwe1150.be
SUMMARY:Impr’Hollywood
DESCRIPTION:par la Cie Improposition \n« Impr’Hollywood »\, qui se passe dans le milieu très sélect du 7e art : castings\, écriture de scénarios\, tournages\, stars au maquillage… la totale pour voir Hollywood comme vous ne l’avez jamais vue  \nCinq comédiens vous emmènent et composent un spectacle à partir de VOS propositions ! \n 
URL:https://www.woluwe1150.be/event/imprhollywood/
LOCATION:Centre culturel/cultureel centrum Whalll\, 93 avenue Charles Thielemanslaan\, WSP/SPW\, 1150
CATEGORIES:Spectacle,Théâtre
ATTACH;FMTTYPE=image/jpeg:https://www.woluwe1150.be/app/uploads/2026/03/imprhollywood.jpg
ORGANIZER;CN="Whalll":MAILTO:billetterie@whalll.be
END:VEVENT
END:VCALENDAR