BEGIN:VCALENDAR
VERSION:2.0
PRODID:-//Woluwe Saint Pierre - ECPv6.13.2//NONSGML v1.0//EN
CALSCALE:GREGORIAN
METHOD:PUBLISH
X-WR-CALNAME:Woluwe Saint Pierre
X-ORIGINAL-URL:https://www.woluwe1150.be
X-WR-CALDESC:Évènements pour Woluwe Saint Pierre
REFRESH-INTERVAL;VALUE=DURATION:PT1H
X-Robots-Tag:noindex
X-PUBLISHED-TTL:PT1H
BEGIN:VTIMEZONE
TZID:Europe/Brussels
BEGIN:DAYLIGHT
TZOFFSETFROM:+0100
TZOFFSETTO:+0200
TZNAME:CEST
DTSTART:20260329T010000
END:DAYLIGHT
BEGIN:STANDARD
TZOFFSETFROM:+0200
TZOFFSETTO:+0100
TZNAME:CET
DTSTART:20261025T010000
END:STANDARD
END:VTIMEZONE
BEGIN:VEVENT
DTSTART;TZID=Europe/Brussels:20260415T000000
DTEND;TZID=Europe/Brussels:20260426T000000
DTSTAMP:20260424T162758
CREATED:20260317T105753Z
LAST-MODIFIED:20260317T105753Z
UID:93247-1776211200-1777161600@www.woluwe1150.be
SUMMARY:Coiffeuse d'Ames
DESCRIPTION:DE VALÉRIANE DE MAERTELEIRE ET THIERRY DEBROUX  \nLorsque\, la veille de Noël\, Eléonore pénètre dans un salon de coiffure sans avoir pris rendez-vous\, elle est loin de se douter de ce qui l’attend. \nCar Nuwu\, coiffeuse d’âmes de son état\, a bien une réservation à son nom. \nPeu à peu\, elle éprouve le sentiment étrange que rien ne se déroule comme elle l’avait imaginé. Le salon est vide et la coiffeuse attendait sa venue. \nUne comédie décoiffante sur le parcours des âmes.   \nInfos et réservations
URL:https://www.woluwe1150.be/event/coiffeuse-dames/
LOCATION:Comédie Claude Volter\, 98 avenue des Frères Legrain\, Woluwe-Saint-Pierre\, 1150
CATEGORIES:Théâtre
ATTACH;FMTTYPE=image/jpeg:https://www.woluwe1150.be/app/uploads/2026/03/coiffeuse_ame.jpg
ORGANIZER;CN="Com%C3%A9die Claude Volter":MAILTO:secretariat@comedievolter.be
END:VEVENT
BEGIN:VEVENT
DTSTART;TZID=Europe/Brussels:20260416T000000
DTEND;TZID=Europe/Brussels:20260419T000000
DTSTAMP:20260424T162758
CREATED:20260317T120231Z
LAST-MODIFIED:20260317T120231Z
UID:93294-1776297600-1776556800@www.woluwe1150.be
SUMMARY:Le Retour de Richard 3 par le train de 9h24
DESCRIPTION:Le Souffleur Aphone présente « Le Retour de Richard 3 par le train de 9h24 » de Gilles Dyrek. \nPierre-Henri\, patriarche froid\, condamné par la médecine\, réunit sa famille pendant une semaine dans sa maison de campagne pour tenter de se réconcilier avec elle. Mais cette expérience l’entraîne bien au-delà de ce qu’il aurait pu imaginer… \nLe Souffleur Aphone vous entraîne dans une comédie très drôle où quiproquos et malentendus se succèdent avec jubilation!  \nLes 16/04\, 17/04 et 18/04 à 20h30 ; le 19/04 à 15h30. \nInfos et réservations
URL:https://www.woluwe1150.be/event/le-retour-de-richard-3-par-le-train-de-9h24/
LOCATION:centre communautaire de Joli-Bois\, 15 drève des Shetlands\, Woluwe-Saint-Pierre\, 1150
CATEGORIES:Théâtre
ATTACH;FMTTYPE=image/jpeg:https://www.woluwe1150.be/app/uploads/2026/03/souffleur_aphone.jpg
END:VEVENT
END:VCALENDAR