BEGIN:VCALENDAR
VERSION:2.0
PRODID:-//Woluwe Saint Pierre - ECPv6.13.2//NONSGML v1.0//EN
CALSCALE:GREGORIAN
METHOD:PUBLISH
X-ORIGINAL-URL:https://www.woluwe1150.be
X-WR-CALDESC:Évènements pour Woluwe Saint Pierre
REFRESH-INTERVAL;VALUE=DURATION:PT1H
X-Robots-Tag:noindex
X-PUBLISHED-TTL:PT1H
BEGIN:VTIMEZONE
TZID:Europe/Brussels
BEGIN:DAYLIGHT
TZOFFSETFROM:+0100
TZOFFSETTO:+0200
TZNAME:CEST
DTSTART:20260329T010000
END:DAYLIGHT
BEGIN:STANDARD
TZOFFSETFROM:+0200
TZOFFSETTO:+0100
TZNAME:CET
DTSTART:20261025T010000
END:STANDARD
END:VTIMEZONE
BEGIN:VEVENT
DTSTART;TZID=Europe/Brussels:20260315T100000
DTEND;TZID=Europe/Brussels:20260315T123000
DTSTAMP:20260425T035939
CREATED:20260302T103528Z
LAST-MODIFIED:20260302T103528Z
UID:92773-1773568800-1773577800@www.woluwe1150.be
SUMMARY:Visite guidée : L'Art Déco et le modernisme à Woluwe-Si-Plaisante
DESCRIPTION:Woluwe-Saint-Pierre en 1900\, ce sont les Ardennes aux portes de Bruxelles. Le chemin de fer et l’avenue de Tervueren vont profondément transformer ce village champêtre. \nDans l’entre-deux-guerres l’art Déco\, initié par l’emblématique Palais Stoclet qui influencera également les premières réalisations modernistes\, va bouleverser les réalisations de la Belle Epoque. Revivez l’urbanisation de cette agréable commune résidentielle et verte au cours d’une balade passionnante. \nCette visite est réservée aux habitants de Woluwe-Saint-Pierre\, dans le cadre d’un partenariat entre la commune et Bruxelles Bavard. \nInfos et réservations
URL:https://www.woluwe1150.be/event/visite-guidee-lart-deco-et-le-modernisme-a-woluwe-si-plaisante/
LOCATION:Square Léopold II\, Avenue de Tervueren 222\, Woluwe-Saint-Pierre\, 1150
CATEGORIES:Visite guidée
ATTACH;FMTTYPE=image/jpeg:https://www.woluwe1150.be/app/uploads/2026/03/Art-Deco.jpg
ORGANIZER;CN="Bruxelles Bavard asbl":MAILTO:info@bruxellesbavard.be
END:VEVENT
END:VCALENDAR