BEGIN:VCALENDAR
VERSION:2.0
PRODID:-//Woluwe Saint Pierre - ECPv6.13.2//NONSGML v1.0//EN
CALSCALE:GREGORIAN
METHOD:PUBLISH
X-ORIGINAL-URL:https://www.woluwe1150.be
X-WR-CALDESC:Évènements pour Woluwe Saint Pierre
REFRESH-INTERVAL;VALUE=DURATION:PT1H
X-Robots-Tag:noindex
X-PUBLISHED-TTL:PT1H
BEGIN:VTIMEZONE
TZID:Europe/Brussels
BEGIN:DAYLIGHT
TZOFFSETFROM:+0100
TZOFFSETTO:+0200
TZNAME:CEST
DTSTART:20250330T010000
END:DAYLIGHT
BEGIN:STANDARD
TZOFFSETFROM:+0200
TZOFFSETTO:+0100
TZNAME:CET
DTSTART:20251026T010000
END:STANDARD
END:VTIMEZONE
BEGIN:VEVENT
DTSTART;TZID=Europe/Brussels:20250907T104500
DTEND;TZID=Europe/Brussels:20250907T123000
DTSTAMP:20260425T163954
CREATED:20250729T132109Z
LAST-MODIFIED:20250729T132109Z
UID:81534-1757241900-1757248200@www.woluwe1150.be
SUMMARY:Visite guidée musicale du Vieux quartier du Chant d'Oiseau
DESCRIPTION:Lieu de départ : Avenue du Chant d’oiseau 40\, 1150 Woluwe-Saint-Pierre \nA parcourir le quartier du Chant d’Oiseau\, on tombe très logiquement sur des noms d’espèces d’oiseaux diverses et variées. Pour comprendre pourquoi\, il faut remonter longtemps en arrière\, et c’est ce que nous ferons lors de cette visite. Nous reviendrons à l’époque où il n’y avait que des quelques sentiers à l’entour\, et bien plus de « chants d’oiseaux » qu’aujourd’hui ! Nous verrons aussi ce qu’il en est de l’histoire de la fameuse église Notre-Dame du Chant d’Oiseau\, comme elle a atterri là\, le vécu de personnalités liées au quartier\, et un certain pont pas très loin… Le tout en musique en live à chaque étape ! \nVisite guidée par l’asbl Clap Culture asbl. Dans le cadre des Estivales des Centres de quartier.  \nRéservation : ccco@woluwe1150.be
URL:https://www.woluwe1150.be/event/visite-guidee-musicale-du-vieux-quartier-du-chant-doiseau/
LOCATION:Centre communautaire du Chant d’Oiseau\, 40 avenue du Chant d'Oiseau\, 1150 Woluwe-Saint-Pierre\, 1150\, Belgique
CATEGORIES:Visite guidée
ATTACH;FMTTYPE=image/png:https://www.woluwe1150.be/app/uploads/2025/07/estivales_ccco.png
ORGANIZER;CN="Centre communautaire du Chant d'Oiseau":MAILTO:ccco@woluwe1150.be
END:VEVENT
END:VCALENDAR